BEGIN:VCALENDAR
VERSION:2.0
PRODID:-//195.7.226.12//NONSGML kigkonsult.se iCalcreator 2.20//
CALSCALE:GREGORIAN
METHOD:PUBLISH
X-WR-CALNAME:Welcome To North Presentation Secondary School
X-WR-CALDESC:Northpres Secondary School
X-FROM-URL:http://northpres.ie
X-WR-TIMEZONE:UTC
BEGIN:VTIMEZONE
TZID:UTC
X-LIC-LOCATION:UTC
BEGIN:STANDARD
DTSTART:00001130T000000
TZOFFSETFROM:+0000
TZOFFSETTO:+0000
TZNAME:UTC
END:STANDARD
END:VTIMEZONE
BEGIN:VEVENT
UID:ai1ec-1583@northpres.ie
DTSTAMP:20171030T092756Z
CATEGORIES:
CONTACT:
DESCRIPTION:
DTSTART;VALUE=DATE:20170919
DTEND;VALUE=DATE:20170920
SEQUENCE:0
SUMMARY:TY Trip to National Ploughing Championships
URL:http://northpres.ie/event/ty-trip-to-national-ploughing-championships/
X-COST-TYPE:free
END:VEVENT
END:VCALENDAR
