BEGIN:VCALENDAR
VERSION:2.0
PRODID:-//195.7.226.12//NONSGML kigkonsult.se iCalcreator 2.20//
CALSCALE:GREGORIAN
METHOD:PUBLISH
X-WR-CALNAME:Welcome To North Presentation Secondary School
X-WR-CALDESC:Northpres Secondary School
X-FROM-URL:http://northpres.ie
X-WR-TIMEZONE:UTC
BEGIN:VTIMEZONE
TZID:UTC
X-LIC-LOCATION:UTC
BEGIN:STANDARD
DTSTART:00001130T000000
TZOFFSETFROM:+0000
TZOFFSETTO:+0000
TZNAME:UTC
END:STANDARD
END:VTIMEZONE
BEGIN:VEVENT
UID:ai1ec-1587@northpres.ie
DTSTAMP:20171030T093624Z
CATEGORIES:
CONTACT:
DESCRIPTION:
DTSTART:20170922T090000Z
SEQUENCE:0
SUMMARY:1st Year Parents Coffee Morning
URL:http://northpres.ie/event/1st-year-parents-coffee-morning/
X-COST-TYPE:free
X-INSTANT-EVENT:1
END:VEVENT
END:VCALENDAR
